BEGIN:VCALENDAR
VERSION:2.0
PRODID:-//christophercox.co.uk - ECPv6.3.5//NONSGML v1.0//EN
CALSCALE:GREGORIAN
METHOD:PUBLISH
X-WR-CALNAME:christophercox.co.uk
X-ORIGINAL-URL:https://www.christophercox.co.uk
X-WR-CALDESC:Events for christophercox.co.uk
REFRESH-INTERVAL;VALUE=DURATION:PT1H
X-Robots-Tag:noindex
X-PUBLISHED-TTL:PT1H
BEGIN:VTIMEZONE
TZID:Europe/London
BEGIN:DAYLIGHT
TZOFFSETFROM:+0000
TZOFFSETTO:+0100
TZNAME:BST
DTSTART:20210328T010000
END:DAYLIGHT
BEGIN:STANDARD
TZOFFSETFROM:+0100
TZOFFSETTO:+0000
TZNAME:GMT
DTSTART:20211031T010000
END:STANDARD
END:VTIMEZONE
BEGIN:VEVENT
DTSTART;VALUE=DATE:20210614
DTEND;VALUE=DATE:20210616
DTSTAMP:20260423T112441
CREATED:20210526T143555Z
LAST-MODIFIED:20210526T143555Z
UID:959-1623628800-1623801599@www.christophercox.co.uk
SUMMARY:Non-working days (2)
DESCRIPTION:Non-working days Monday 14 June – Tuesday 15 June
URL:https://www.christophercox.co.uk/event/non-working-days-2/
END:VEVENT
BEGIN:VEVENT
DTSTART;VALUE=DATE:20210622
DTEND;VALUE=DATE:20210623
DTSTAMP:20260423T112441
CREATED:20210526T144904Z
LAST-MODIFIED:20210526T144904Z
UID:963-1624320000-1624406399@www.christophercox.co.uk
SUMMARY:Non-working day (1)
DESCRIPTION:Tuesday 22nd June
URL:https://www.christophercox.co.uk/event/non-working-day-1/
END:VEVENT
BEGIN:VEVENT
DTSTART;VALUE=DATE:20210716
DTEND;VALUE=DATE:20210717
DTSTAMP:20260423T112441
CREATED:20210526T145014Z
LAST-MODIFIED:20210526T145137Z
UID:965-1626393600-1626479999@www.christophercox.co.uk
SUMMARY:Non-working day (1)
DESCRIPTION:Friday 16 July
URL:https://www.christophercox.co.uk/event/non-working-day-1-2/
END:VEVENT
BEGIN:VEVENT
DTSTART;VALUE=DATE:20210802
DTEND;VALUE=DATE:20210809
DTSTAMP:20260423T112441
CREATED:20210526T143111Z
LAST-MODIFIED:20210526T145314Z
UID:951-1627862400-1628467199@www.christophercox.co.uk
SUMMARY:Holiday non-working days (7)
DESCRIPTION:Week-long holiday 2nd August – 8th August
URL:https://www.christophercox.co.uk/event/holiday-non-working-days/
END:VEVENT
END:VCALENDAR