BEGIN:VCALENDAR
VERSION:2.0
PRODID:-//christophercox.co.uk - ECPv6.3.5//NONSGML v1.0//EN
CALSCALE:GREGORIAN
METHOD:PUBLISH
X-WR-CALNAME:christophercox.co.uk
X-ORIGINAL-URL:https://www.christophercox.co.uk
X-WR-CALDESC:Events for christophercox.co.uk
REFRESH-INTERVAL;VALUE=DURATION:PT1H
X-Robots-Tag:noindex
X-PUBLISHED-TTL:PT1H
BEGIN:VTIMEZONE
TZID:Europe/London
BEGIN:DAYLIGHT
TZOFFSETFROM:+0000
TZOFFSETTO:+0100
TZNAME:BST
DTSTART:20210328T010000
END:DAYLIGHT
BEGIN:STANDARD
TZOFFSETFROM:+0100
TZOFFSETTO:+0000
TZNAME:GMT
DTSTART:20211031T010000
END:STANDARD
END:VTIMEZONE
BEGIN:VEVENT
DTSTART;VALUE=DATE:20210614
DTEND;VALUE=DATE:20210616
DTSTAMP:20260423T111732
CREATED:20210526T143555Z
LAST-MODIFIED:20210526T143555Z
UID:959-1623628800-1623801599@www.christophercox.co.uk
SUMMARY:Non-working days (2)
DESCRIPTION:Non-working days Monday 14 June – Tuesday 15 June
URL:https://www.christophercox.co.uk/event/non-working-days-2/
END:VEVENT
BEGIN:VEVENT
DTSTART;TZID=Europe/London:20210602T100000
DTEND;TZID=Europe/London:20210602T110000
DTSTAMP:20260423T111732
CREATED:20210526T151305Z
LAST-MODIFIED:20210526T151305Z
UID:970-1622628000-1622631600@www.christophercox.co.uk
SUMMARY:Unavailable
DESCRIPTION:
URL:https://www.christophercox.co.uk/event/unavailable/
END:VEVENT
BEGIN:VEVENT
DTSTART;VALUE=DATE:20210531
DTEND;VALUE=DATE:20210601
DTSTAMP:20260423T111732
CREATED:20210526T143213Z
LAST-MODIFIED:20210526T144733Z
UID:953-1622419200-1622505599@www.christophercox.co.uk
SUMMARY:Bank holiday - non-working day (1)
DESCRIPTION:Bank holiday – non-working day – Monday 31st May
URL:https://www.christophercox.co.uk/event/bank-holiday-non-working-day/
END:VEVENT
BEGIN:VEVENT
DTSTART;VALUE=DATE:20210528
DTEND;VALUE=DATE:20210529
DTSTAMP:20260423T111732
CREATED:20210526T143308Z
LAST-MODIFIED:20210526T143640Z
UID:955-1622160000-1622246399@www.christophercox.co.uk
SUMMARY:Non-working day (1)
DESCRIPTION:Non-working day  – Friday 28 May
URL:https://www.christophercox.co.uk/event/non-working-day/
END:VEVENT
END:VCALENDAR